BEGIN:VCALENDAR
VERSION:2.0
PRODID:Spatie calendar-links
BEGIN:VEVENT
UID:63285b1587ad330c79ceb57f80eb044b
SUMMARY:Auction 46 On-Line
DTSTAMP;TZID=UTC:20251209T150000
DTSTART;TZID=UTC:20251209T150000
DTEND;TZID=UTC:20251209T170000
END:VEVENT
END:VCALENDAR
