BEGIN:VCALENDAR
VERSION:2.0
PRODID:Spatie calendar-links
BEGIN:VEVENT
UID:66ef0e23107cf278cf17d3676808a7c9
SUMMARY:Auction 55 - Sammlung R. L. – Teil III Unsold Items Only!
DTSTAMP;TZID=UTC:20250926T140000
DTSTART;TZID=UTC:20250926T140000
DTEND;TZID=UTC:20250929T184232
END:VEVENT
END:VCALENDAR
